BEGIN:VCALENDAR
VERSION:2.0
PRODID:-//GARDEN SHALA - ECPv6.7.1//NONSGML v1.0//EN
CALSCALE:GREGORIAN
METHOD:PUBLISH
X-WR-CALNAME:GARDEN SHALA
X-ORIGINAL-URL:https://gardenshala.pl
X-WR-CALDESC:Events for GARDEN SHALA
REFRESH-INTERVAL;VALUE=DURATION:PT1H
X-Robots-Tag:noindex
X-PUBLISHED-TTL:PT1H
BEGIN:VTIMEZONE
TZID:Europe/Warsaw
BEGIN:DAYLIGHT
TZOFFSETFROM:+0100
TZOFFSETTO:+0200
TZNAME:CEST
DTSTART:20250330T010000
END:DAYLIGHT
BEGIN:STANDARD
TZOFFSETFROM:+0200
TZOFFSETTO:+0100
TZNAME:CET
DTSTART:20251026T010000
END:STANDARD
TZID:Europe/Helsinki
BEGIN:DAYLIGHT
TZOFFSETFROM:+0200
TZOFFSETTO:+0300
TZNAME:EEST
DTSTART:20250330T010000
END:DAYLIGHT
BEGIN:STANDARD
TZOFFSETFROM:+0300
TZOFFSETTO:+0200
TZNAME:EET
DTSTART:20251026T010000
END:STANDARD
END:VTIMEZONE
BEGIN:VEVENT
DTSTART;TZID=Europe/Warsaw:20250512T173000
DTEND;TZID=Europe/Warsaw:20250512T184500
DTSTAMP:20260421T192911
CREATED:20250426T123345Z
LAST-MODIFIED:20250426T123345Z
UID:10000402-1747071000-1747075500@gardenshala.pl
SUMMARY:Joga dla początkujących
DESCRIPTION:Solidna podstawa do praktyki jogi\, prawidłowego wykonywania asan oraz pracy z oddechem. \nProwadząca: Ola Wietecha-Drobik
URL:https://gardenshala.pl/yoga/joga-dla-poczatkujacych-14/
LOCATION:Garden Shala\, Czołgistów 13\, Łódź\, 94-217\, Poland
END:VEVENT
BEGIN:VEVENT
DTSTART;TZID=Europe/Helsinki:20250512T185000
DTEND;TZID=Europe/Helsinki:20250512T202000
DTSTAMP:20260421T192911
CREATED:20250426T123416Z
LAST-MODIFIED:20250426T123416Z
UID:10000403-1747075800-1747081200@gardenshala.pl
SUMMARY:Hatha Joga
DESCRIPTION:Statyczna praktyka pozycji jogi z elementami technik oddechowych i medytacji. \nProwadząca: Ola
URL:https://gardenshala.pl/yoga/hatha-joga-19/
LOCATION:Garden Shala\, Czołgistów 13\, Łódź\, 94-217\, Poland
END:VEVENT
BEGIN:VEVENT
DTSTART;TZID=Europe/Helsinki:20250513T173000
DTEND;TZID=Europe/Helsinki:20250513T183000
DTSTAMP:20260421T192911
CREATED:20250426T124146Z
LAST-MODIFIED:20250426T124146Z
UID:10000411-1747157400-1747161000@gardenshala.pl
SUMMARY:Ashtanga dla początkujących
DESCRIPTION:Wprowadzenie do I serii Ashtanga Jogi \nProwadząca: Mariana
URL:https://gardenshala.pl/yoga/ashtanga-dla-poczatkujacych-20/
LOCATION:Garden Shala\, Czołgistów 13\, Łódź\, 94-217\, Poland
END:VEVENT
BEGIN:VEVENT
DTSTART;TZID=Europe/Helsinki:20250513T184500
DTEND;TZID=Europe/Helsinki:20250513T201500
DTSTAMP:20260421T192911
CREATED:20250426T124204Z
LAST-MODIFIED:20250426T124204Z
UID:10000412-1747161900-1747167300@gardenshala.pl
SUMMARY:Ashtanga Mysore
DESCRIPTION:Mysore – praktyka własna Ashtanga Jogi pod przewodnictwem nauczyciela. \nProwadząca: Agnieszka
URL:https://gardenshala.pl/yoga/ashtanga-mysore-20/
LOCATION:Garden Shala\, Czołgistów 13\, Łódź\, 94-217\, Poland
END:VEVENT
BEGIN:VEVENT
DTSTART;TZID=Europe/Warsaw:20250514T173000
DTEND;TZID=Europe/Warsaw:20250514T184500
DTSTAMP:20260421T192911
CREATED:20250426T125742Z
LAST-MODIFIED:20250426T125742Z
UID:10000430-1747243800-1747248300@gardenshala.pl
SUMMARY:Joga dla początkujących
DESCRIPTION:Łagodne i płynne wejście w praktykę jogi z Gosią.
URL:https://gardenshala.pl/yoga/joga-dla-poczatkujacych-18/
LOCATION:Garden Shala\, Czołgistów 13\, Łódź\, 94-217\, Poland
END:VEVENT
BEGIN:VEVENT
DTSTART;TZID=Europe/Warsaw:20250514T190000
DTEND;TZID=Europe/Warsaw:20250514T203000
DTSTAMP:20260421T192911
CREATED:20250426T124509Z
LAST-MODIFIED:20250426T124509Z
UID:10000415-1747249200-1747254600@gardenshala.pl
SUMMARY:Joga 2.0 - kurs pogłębiający praktykę jogi
DESCRIPTION:Kurs pogłębiający praktykę jogi\nSirsasana\, stanie na głowie\nInwestycja:\ncały kurs 450 zł\npojedyncze zajęcia: 80 zł\nProwadząca: Julia
URL:https://gardenshala.pl/yoga/joga-2-0-kurs-poglebiajacy-praktyke-jogi-8/
LOCATION:Garden Shala\, Czołgistów 13\, Łódź\, 94-217\, Poland
END:VEVENT
BEGIN:VEVENT
DTSTART;TZID=Europe/Helsinki:20250515T173000
DTEND;TZID=Europe/Helsinki:20250515T184500
DTSTAMP:20260421T192911
CREATED:20250426T131148Z
LAST-MODIFIED:20250426T131148Z
UID:10000431-1747330200-1747334700@gardenshala.pl
SUMMARY:Hatha Joga
DESCRIPTION:Statyczna praktyka pozycji jogi z elementami technik oddechowych i medytacji. \nJoga ogólna. \nProwadząca: Weronika
URL:https://gardenshala.pl/yoga/hatha-joga-23/
LOCATION:Garden Shala\, Czołgistów 13\, Łódź\, 94-217\, Poland
END:VEVENT
BEGIN:VEVENT
DTSTART;TZID=Europe/Helsinki:20250515T190000
DTEND;TZID=Europe/Helsinki:20250515T203000
DTSTAMP:20260421T192911
CREATED:20250426T131219Z
LAST-MODIFIED:20250426T131219Z
UID:10000432-1747335600-1747341000@gardenshala.pl
SUMMARY:Ashtanga dla początkujących
DESCRIPTION:Wprowadzenie do I serii Ashtanga Jogi \nProwadząca: Mariana
URL:https://gardenshala.pl/yoga/ashtanga-dla-poczatkujacych-25/
LOCATION:Garden Shala\, Czołgistów 13\, Łódź\, 94-217\, Poland
END:VEVENT
BEGIN:VEVENT
DTSTART;TZID=Europe/Warsaw:20250516T173000
DTEND;TZID=Europe/Warsaw:20250516T184500
DTSTAMP:20260421T192911
CREATED:20250426T131645Z
LAST-MODIFIED:20250426T131645Z
UID:10000441-1747416600-1747421100@gardenshala.pl
SUMMARY:Movement & Prana
DESCRIPTION:Trening oddechowy połączony z ruchem\nProwadząca: Ola
URL:https://gardenshala.pl/yoga/movement-prana-10/
LOCATION:Garden Shala\, Czołgistów 13\, Łódź\, 94-217\, Poland
END:VEVENT
BEGIN:VEVENT
DTSTART;TZID=Europe/Helsinki:20250516T185000
DTEND;TZID=Europe/Helsinki:20250516T202000
DTSTAMP:20260421T192911
CREATED:20250426T131941Z
LAST-MODIFIED:20250426T131941Z
UID:10000442-1747421400-1747426800@gardenshala.pl
SUMMARY:Ashtanga - wstęp do II serii
DESCRIPTION:Wprowadzenie do II serii Ashtanga Jogi \nProwadząca: Julia
URL:https://gardenshala.pl/yoga/ashtanga-wstep-do-ii-serii-11/
LOCATION:Garden Shala\, Czołgistów 13\, Łódź\, 94-217\, Poland
END:VEVENT
BEGIN:VEVENT
DTSTART;TZID=Europe/Helsinki:20250517T090000
DTEND;TZID=Europe/Helsinki:20250517T104500
DTSTAMP:20260421T192911
CREATED:20250426T131903Z
LAST-MODIFIED:20250426T131903Z
UID:10000444-1747472400-1747478700@gardenshala.pl
SUMMARY:Ashtanga Mysore
DESCRIPTION:Mysore – praktyka własna pod przewodnictwem nauczyciela \nProwadząca: Mariana
URL:https://gardenshala.pl/yoga/ashtanga-mysore-25/
LOCATION:Garden Shala\, Czołgistów 13\, Łódź\, 94-217\, Poland
END:VEVENT
BEGIN:VEVENT
DTSTART;TZID=Europe/Helsinki:20250518T100000
DTEND;TZID=Europe/Helsinki:20250518T111500
DTSTAMP:20260421T192911
CREATED:20250426T134938Z
LAST-MODIFIED:20250426T134938Z
UID:10000451-1747562400-1747566900@gardenshala.pl
SUMMARY:Vinyasa Joga
DESCRIPTION:Energia i Pobudzenie \nPraktyka jogi mająca na celu rozbudzenie ciała i umysłu – czyli idealny sposób na rozpoczęcie niedzieli! \nProwadząca: Gosia Szczepańską
URL:https://gardenshala.pl/yoga/vinyasa-joga-15/
LOCATION:Garden Shala\, Czołgistów 13\, Łódź\, 94-217\, Poland
END:VEVENT
END:VCALENDAR