BEGIN:VCALENDAR
VERSION:2.0
PRODID:-//GARDEN SHALA - ECPv6.7.1//NONSGML v1.0//EN
CALSCALE:GREGORIAN
METHOD:PUBLISH
X-ORIGINAL-URL:https://gardenshala.pl
X-WR-CALDESC:Events for GARDEN SHALA
REFRESH-INTERVAL;VALUE=DURATION:PT1H
X-Robots-Tag:noindex
X-PUBLISHED-TTL:PT1H
BEGIN:VTIMEZONE
TZID:Europe/Warsaw
BEGIN:DAYLIGHT
TZOFFSETFROM:+0100
TZOFFSETTO:+0200
TZNAME:CEST
DTSTART:20250330T010000
END:DAYLIGHT
BEGIN:STANDARD
TZOFFSETFROM:+0200
TZOFFSETTO:+0100
TZNAME:CET
DTSTART:20251026T010000
END:STANDARD
TZID:Europe/Helsinki
BEGIN:DAYLIGHT
TZOFFSETFROM:+0200
TZOFFSETTO:+0300
TZNAME:EEST
DTSTART:20250330T010000
END:DAYLIGHT
BEGIN:STANDARD
TZOFFSETFROM:+0300
TZOFFSETTO:+0200
TZNAME:EET
DTSTART:20251026T010000
END:STANDARD
END:VTIMEZONE
BEGIN:VEVENT
DTSTART;TZID=Europe/Warsaw:20250707T173000
DTEND;TZID=Europe/Warsaw:20250707T184500
DTSTAMP:20260421T163048
CREATED:20250626T105545Z
LAST-MODIFIED:20250626T105545Z
UID:10000536-1751909400-1751913900@gardenshala.pl
SUMMARY:Joga dla początkujących
DESCRIPTION:Solidna podstawa do praktyki jogi\, prawidłowego wykonywania asan oraz pracy z oddechem. \nProwadząca: Ola Wietecha-Drobik
URL:https://gardenshala.pl/yoga/joga-dla-poczatkujacych-31/
LOCATION:Garden Shala\, Czołgistów 13\, Łódź\, 94-217\, Poland
END:VEVENT
BEGIN:VEVENT
DTSTART;TZID=Europe/Helsinki:20250707T185000
DTEND;TZID=Europe/Helsinki:20250707T202000
DTSTAMP:20260421T163048
CREATED:20250626T105625Z
LAST-MODIFIED:20250626T105625Z
UID:10000537-1751914200-1751919600@gardenshala.pl
SUMMARY:Hatha Joga
DESCRIPTION:Statyczna praktyka pozycji jogi z elementami technik oddechowych i medytacji. \nProwadząca: Ola
URL:https://gardenshala.pl/yoga/hatha-joga-36/
LOCATION:Garden Shala\, Czołgistów 13\, Łódź\, 94-217\, Poland
END:VEVENT
BEGIN:VEVENT
DTSTART;TZID=Europe/Helsinki:20250708T173000
DTEND;TZID=Europe/Helsinki:20250708T183000
DTSTAMP:20260421T163048
CREATED:20250626T110006Z
LAST-MODIFIED:20250626T110006Z
UID:10000544-1751995800-1751999400@gardenshala.pl
SUMMARY:Ashtanga dla początkujących
DESCRIPTION:Wprowadzenie do I serii Ashtanga Jogi \nProwadząca: Julia
URL:https://gardenshala.pl/yoga/ashtanga-dla-poczatkujacych-39/
LOCATION:Garden Shala\, Czołgistów 13\, Łódź\, 94-217\, Poland
END:VEVENT
BEGIN:VEVENT
DTSTART;TZID=Europe/Helsinki:20250708T184500
DTEND;TZID=Europe/Helsinki:20250708T201500
DTSTAMP:20260421T163048
CREATED:20250626T110030Z
LAST-MODIFIED:20250626T110041Z
UID:10000545-1752000300-1752005700@gardenshala.pl
SUMMARY:Ashtanga Mysore
DESCRIPTION:Mysore – praktyka własna Ashtanga Jogi pod przewodnictwem nauczyciela. \nProwadząca: Julia
URL:https://gardenshala.pl/yoga/ashtanga-mysore-38/
LOCATION:Garden Shala\, Czołgistów 13\, Łódź\, 94-217\, Poland
END:VEVENT
BEGIN:VEVENT
DTSTART;TZID=Europe/Warsaw:20250709T173000
DTEND;TZID=Europe/Warsaw:20250709T184500
DTSTAMP:20260421T163048
CREATED:20250626T110454Z
LAST-MODIFIED:20250626T110454Z
UID:10000554-1752082200-1752086700@gardenshala.pl
SUMMARY:Joga dla początkujących
DESCRIPTION:Łagodne i płynne wejście w praktykę jogi z Gosią.
URL:https://gardenshala.pl/yoga/joga-dla-poczatkujacych-35/
LOCATION:Garden Shala\, Czołgistów 13\, Łódź\, 94-217\, Poland
END:VEVENT
BEGIN:VEVENT
DTSTART;TZID=Europe/Warsaw:20250709T190000
DTEND;TZID=Europe/Warsaw:20250709T203000
DTSTAMP:20260421T163048
CREATED:20250626T110517Z
LAST-MODIFIED:20250626T110517Z
UID:10000555-1752087600-1752093000@gardenshala.pl
SUMMARY:Ashtanga Asana Lab
DESCRIPTION:Praktyka poświęcona poszczególnym asanom z I i II serii Ashtangi. \nOmówienie techniki\, wariantów i sposobów wprowadzenia ciała w pozycje. \nPodczas zajęć przewidziana jest także praca z oddechem (Pranayama) i praktyki uważności (medytacja). \nProwadząca: Julia
URL:https://gardenshala.pl/yoga/ashtanga-asana-lab-5/
LOCATION:Garden Shala\, Czołgistów 13\, Łódź\, 94-217\, Poland
END:VEVENT
BEGIN:VEVENT
DTSTART;TZID=Europe/Helsinki:20250710T173000
DTEND;TZID=Europe/Helsinki:20250710T184500
DTSTAMP:20260421T163048
CREATED:20250626T110838Z
LAST-MODIFIED:20250626T110838Z
UID:10000562-1752168600-1752173100@gardenshala.pl
SUMMARY:Hatha Joga
DESCRIPTION:Statyczna praktyka pozycji jogi z elementami technik oddechowych i medytacji. \nJoga ogólna. \nProwadząca: Weronika
URL:https://gardenshala.pl/yoga/hatha-joga-40/
LOCATION:Garden Shala\, Czołgistów 13\, Łódź\, 94-217\, Poland
END:VEVENT
BEGIN:VEVENT
DTSTART;TZID=Europe/Helsinki:20250710T190000
DTEND;TZID=Europe/Helsinki:20250710T203000
DTSTAMP:20260421T163048
CREATED:20250626T110853Z
LAST-MODIFIED:20250626T110853Z
UID:10000563-1752174000-1752179400@gardenshala.pl
SUMMARY:Ashtanga dla początkujących
DESCRIPTION:Wprowadzenie do I serii Ashtanga Jogi \nProwadząca: Mariana
URL:https://gardenshala.pl/yoga/ashtanga-dla-poczatkujacych-43/
LOCATION:Garden Shala\, Czołgistów 13\, Łódź\, 94-217\, Poland
END:VEVENT
BEGIN:VEVENT
DTSTART;TZID=Europe/Warsaw:20250711T173000
DTEND;TZID=Europe/Warsaw:20250711T184500
DTSTAMP:20260421T163048
CREATED:20250626T111309Z
LAST-MODIFIED:20250626T111309Z
UID:10000572-1752255000-1752259500@gardenshala.pl
SUMMARY:Movement & Prana
DESCRIPTION:Trening oddechowy połączony z ruchem\nProwadząca: Ola
URL:https://gardenshala.pl/yoga/movement-prana-18/
LOCATION:Garden Shala\, Czołgistów 13\, Łódź\, 94-217\, Poland
END:VEVENT
BEGIN:VEVENT
DTSTART;TZID=Europe/Helsinki:20250711T185000
DTEND;TZID=Europe/Helsinki:20250711T202000
DTSTAMP:20260421T163048
CREATED:20250626T111334Z
LAST-MODIFIED:20250626T111334Z
UID:10000573-1752259800-1752265200@gardenshala.pl
SUMMARY:Ashtanga - wstęp do II serii
DESCRIPTION:Wprowadzenie do II serii Ashtanga Jogi \nProwadząca: Julia
URL:https://gardenshala.pl/yoga/ashtanga-wstep-do-ii-serii-19/
LOCATION:Garden Shala\, Czołgistów 13\, Łódź\, 94-217\, Poland
END:VEVENT
BEGIN:VEVENT
DTSTART;TZID=Europe/Helsinki:20250712T090000
DTEND;TZID=Europe/Helsinki:20250712T104500
DTSTAMP:20260421T163048
CREATED:20250626T110428Z
LAST-MODIFIED:20250626T110428Z
UID:10000553-1752310800-1752317100@gardenshala.pl
SUMMARY:Ashtanga Mysore
DESCRIPTION:Mysore – praktyka własna pod przewodnictwem nauczyciela \nProwadząca: Mariana
URL:https://gardenshala.pl/yoga/ashtanga-mysore-42/
LOCATION:Garden Shala\, Czołgistów 13\, Łódź\, 94-217\, Poland
END:VEVENT
BEGIN:VEVENT
DTSTART;TZID=Europe/Helsinki:20250713T100000
DTEND;TZID=Europe/Helsinki:20250713T111500
DTSTAMP:20260421T163048
CREATED:20250626T111747Z
LAST-MODIFIED:20250626T111747Z
UID:10000583-1752400800-1752405300@gardenshala.pl
SUMMARY:Vinyasa Joga
DESCRIPTION:Energia i Pobudzenie \nPraktyka jogi mająca na celu rozbudzenie ciała i umysłu – czyli idealny sposób na rozpoczęcie niedzieli! \nProwadząca: Gosia Szczepańska
URL:https://gardenshala.pl/yoga/vinyasa-joga-23/
LOCATION:Garden Shala\, Czołgistów 13\, Łódź\, 94-217\, Poland
END:VEVENT
BEGIN:VEVENT
DTSTART;TZID=Europe/Warsaw:20250713T113000
DTEND;TZID=Europe/Warsaw:20250713T124500
DTSTAMP:20260421T163048
CREATED:20250626T111809Z
LAST-MODIFIED:20250626T111809Z
UID:10000584-1752406200-1752410700@gardenshala.pl
SUMMARY:Łagodna Vinyasa & Joga Nidra
DESCRIPTION:Łagodny\, płynny ruch połączony z oddechem. \nPraktyka zakończona głęboką relaksacją jogi nidry. \nProwadząca: Gosia Szczepańską
URL:https://gardenshala.pl/yoga/lagodna-vinyasa-joga-nidra-20/
LOCATION:Garden Shala\, Czołgistów 13\, Łódź\, 94-217\, Poland
END:VEVENT
END:VCALENDAR