BEGIN:VCALENDAR
VERSION:2.0
PRODID:-//GARDEN SHALA - ECPv6.7.1//NONSGML v1.0//EN
CALSCALE:GREGORIAN
METHOD:PUBLISH
X-WR-CALNAME:GARDEN SHALA
X-ORIGINAL-URL:https://gardenshala.pl
X-WR-CALDESC:Events for GARDEN SHALA
REFRESH-INTERVAL;VALUE=DURATION:PT1H
X-Robots-Tag:noindex
X-PUBLISHED-TTL:PT1H
BEGIN:VTIMEZONE
TZID:Europe/Warsaw
BEGIN:DAYLIGHT
TZOFFSETFROM:+0100
TZOFFSETTO:+0200
TZNAME:CEST
DTSTART:20250330T010000
END:DAYLIGHT
BEGIN:STANDARD
TZOFFSETFROM:+0200
TZOFFSETTO:+0100
TZNAME:CET
DTSTART:20251026T010000
END:STANDARD
TZID:Europe/Helsinki
BEGIN:DAYLIGHT
TZOFFSETFROM:+0200
TZOFFSETTO:+0300
TZNAME:EEST
DTSTART:20250330T010000
END:DAYLIGHT
BEGIN:STANDARD
TZOFFSETFROM:+0300
TZOFFSETTO:+0200
TZNAME:EET
DTSTART:20251026T010000
END:STANDARD
END:VTIMEZONE
BEGIN:VEVENT
DTSTART;TZID=Europe/Warsaw:20250811T173000
DTEND;TZID=Europe/Warsaw:20250811T184500
DTSTAMP:20260421T161629
CREATED:20250801T092222Z
LAST-MODIFIED:20250801T092222Z
UID:10000630-1754933400-1754937900@gardenshala.pl
SUMMARY:Joga dla początkujących
DESCRIPTION:Solidna podstawa do praktyki jogi\, prawidłowego wykonywania asan oraz pracy z oddechem. \nProwadząca: Ola Wietecha-Drobik
URL:https://gardenshala.pl/yoga/joga-dla-poczatkujacych-41/
LOCATION:Garden Shala\, Czołgistów 13\, Łódź\, 94-217\, Poland
END:VEVENT
BEGIN:VEVENT
DTSTART;TZID=Europe/Helsinki:20250811T185000
DTEND;TZID=Europe/Helsinki:20250811T202000
DTSTAMP:20260421T161629
CREATED:20250801T092241Z
LAST-MODIFIED:20250801T092241Z
UID:10000631-1754938200-1754943600@gardenshala.pl
SUMMARY:Hatha Joga
DESCRIPTION:Statyczna praktyka pozycji jogi z elementami technik oddechowych i medytacji. \nProwadząca: Ola
URL:https://gardenshala.pl/yoga/hatha-joga-46/
LOCATION:Garden Shala\, Czołgistów 13\, Łódź\, 94-217\, Poland
END:VEVENT
BEGIN:VEVENT
DTSTART;TZID=Europe/Helsinki:20250812T173000
DTEND;TZID=Europe/Helsinki:20250812T183000
DTSTAMP:20260421T161629
CREATED:20250811T191747Z
LAST-MODIFIED:20250811T191747Z
UID:10000706-1755019800-1755023400@gardenshala.pl
SUMMARY:Ashtanga dla początkujących
DESCRIPTION:Wprowadzenie do I serii Ashtanga Jogi \nProwadząca: Julia
URL:https://gardenshala.pl/yoga/ashtanga-dla-poczatkujacych-57/
LOCATION:Garden Shala\, Czołgistów 13\, Łódź\, 94-217\, Poland
END:VEVENT
BEGIN:VEVENT
DTSTART;TZID=Europe/Helsinki:20250812T184500
DTEND;TZID=Europe/Helsinki:20250812T201500
DTSTAMP:20260421T161629
CREATED:20250801T102815Z
LAST-MODIFIED:20250801T102815Z
UID:10000654-1755024300-1755029700@gardenshala.pl
SUMMARY:Ashtanga Mysore
DESCRIPTION:Mysore – praktyka własna Ashtanga Jogi pod przewodnictwem nauczyciela. \nProwadząca: Julia
URL:https://gardenshala.pl/yoga/ashtanga-mysore-52/
LOCATION:Garden Shala\, Czołgistów 13\, Łódź\, 94-217\, Poland
END:VEVENT
BEGIN:VEVENT
DTSTART;TZID=Europe/Warsaw:20250813T173000
DTEND;TZID=Europe/Warsaw:20250813T184500
DTSTAMP:20260421T161629
CREATED:20250801T102708Z
LAST-MODIFIED:20250801T102708Z
UID:10000653-1755106200-1755110700@gardenshala.pl
SUMMARY:Joga dla początkujących
DESCRIPTION:Łagodne i płynne wejście w praktykę jogi z Gosią.
URL:https://gardenshala.pl/yoga/joga-dla-poczatkujacych-48/
LOCATION:Garden Shala\, Czołgistów 13\, Łódź\, 94-217\, Poland
END:VEVENT
BEGIN:VEVENT
DTSTART;TZID=Europe/Warsaw:20250813T190000
DTEND;TZID=Europe/Warsaw:20250813T203000
DTSTAMP:20260421T161629
CREATED:20250812T205440Z
LAST-MODIFIED:20250812T205440Z
UID:10000649-1755111600-1755117000@gardenshala.pl
SUMMARY:Ashtanga Asana Lab
DESCRIPTION:Praktyka poświęcona poszczególnym asanom z I i II serii Ashtangi. \nOmówienie techniki\, wariantów i sposobów wprowadzenia ciała w pozycje. \nPodczas zajęć przewidziana jest także praca z oddechem (Pranayama) i praktyki uważności (medytacja). \nProwadząca: Julia
URL:https://gardenshala.pl/yoga/ashtanga-asana-lab-14/
LOCATION:Garden Shala\, Czołgistów 13\, Łódź\, 94-217\, Poland
END:VEVENT
BEGIN:VEVENT
DTSTART;TZID=Europe/Helsinki:20250814T173000
DTEND;TZID=Europe/Helsinki:20250814T184500
DTSTAMP:20260421T161629
CREATED:20250801T102831Z
LAST-MODIFIED:20250801T102831Z
UID:10000655-1755192600-1755197100@gardenshala.pl
SUMMARY:Hatha Joga
DESCRIPTION:Statyczna praktyka pozycji jogi z elementami technik oddechowych i medytacji. \nJoga ogólna. \nProwadząca: Weronika
URL:https://gardenshala.pl/yoga/hatha-joga-49/
LOCATION:Garden Shala\, Czołgistów 13\, Łódź\, 94-217\, Poland
END:VEVENT
BEGIN:VEVENT
DTSTART;TZID=Europe/Helsinki:20250814T190000
DTEND;TZID=Europe/Helsinki:20250814T203000
DTSTAMP:20260421T161629
CREATED:20250801T102849Z
LAST-MODIFIED:20250801T102849Z
UID:10000656-1755198000-1755203400@gardenshala.pl
SUMMARY:Ashtanga dla początkujących
DESCRIPTION:Wprowadzenie do I serii Ashtanga Jogi \nProwadząca: Mariana
URL:https://gardenshala.pl/yoga/ashtanga-dla-poczatkujacych-52/
LOCATION:Garden Shala\, Czołgistów 13\, Łódź\, 94-217\, Poland
END:VEVENT
BEGIN:VEVENT
DTSTART;TZID=Europe/Warsaw:20250815T090000
DTEND;TZID=Europe/Warsaw:20250815T110000
DTSTAMP:20260421T161629
CREATED:20250802T145741Z
LAST-MODIFIED:20250811T191820Z
UID:10000687-1755248400-1755255600@gardenshala.pl
SUMMARY:Ashtanga Vinyasa Joga & Joga Nidra
DESCRIPTION:Prowadzona I Seria Ashtanga Vinyasa Jogi zakończona praktyką Jogi Nidry \nProwadząca: Julia
URL:https://gardenshala.pl/yoga/ashtanga-vinyasa-joga-joga-nidra/
LOCATION:Garden Shala\, Czołgistów 13\, Łódź\, 94-217\, Poland
END:VEVENT
BEGIN:VEVENT
DTSTART;TZID=Europe/Helsinki:20250816T090000
DTEND;TZID=Europe/Helsinki:20250816T104500
DTSTAMP:20260421T161629
CREATED:20250801T103412Z
LAST-MODIFIED:20250810T090912Z
UID:10000666-1755334800-1755341100@gardenshala.pl
SUMMARY:Ashtanga Mysore
DESCRIPTION:Mysore – praktyka własna pod przewodnictwem nauczyciela \nProwadząca: Julia
URL:https://gardenshala.pl/yoga/ashtanga-mysore-53/
LOCATION:Garden Shala\, Czołgistów 13\, Łódź\, 94-217\, Poland
END:VEVENT
BEGIN:VEVENT
DTSTART;TZID=Europe/Helsinki:20250817T100000
DTEND;TZID=Europe/Helsinki:20250817T111500
DTSTAMP:20260421T161629
CREATED:20250801T103605Z
LAST-MODIFIED:20250801T103605Z
UID:10000669-1755424800-1755429300@gardenshala.pl
SUMMARY:Vinyasa Joga
DESCRIPTION:Energia i Pobudzenie \nPraktyka jogi mająca na celu rozbudzenie ciała i umysłu – czyli idealny sposób na rozpoczęcie niedzieli! \nProwadząca: Mariana
URL:https://gardenshala.pl/yoga/vinyasa-joga-28/
LOCATION:Garden Shala\, Czołgistów 13\, Łódź\, 94-217\, Poland
END:VEVENT
BEGIN:VEVENT
DTSTART;TZID=Europe/Warsaw:20250817T113000
DTEND;TZID=Europe/Warsaw:20250817T124500
DTSTAMP:20260421T161629
CREATED:20250801T103643Z
LAST-MODIFIED:20250801T103643Z
UID:10000670-1755430200-1755434700@gardenshala.pl
SUMMARY:Łagodna Vinyasa & Joga Nidra
DESCRIPTION:Łagodny\, płynny ruch połączony z oddechem. \nPraktyka zakończona głęboką relaksacją jogi nidry. \nProwadząca: Mariana
URL:https://gardenshala.pl/yoga/lagodna-vinyasa-joga-nidra-25/
LOCATION:Garden Shala\, Czołgistów 13\, Łódź\, 94-217\, Poland
END:VEVENT
END:VCALENDAR