BEGIN:VCALENDAR
VERSION:2.0
PRODID:-//GARDEN SHALA - ECPv6.7.1//NONSGML v1.0//EN
CALSCALE:GREGORIAN
METHOD:PUBLISH
X-ORIGINAL-URL:https://gardenshala.pl
X-WR-CALDESC:Events for GARDEN SHALA
REFRESH-INTERVAL;VALUE=DURATION:PT1H
X-Robots-Tag:noindex
X-PUBLISHED-TTL:PT1H
BEGIN:VTIMEZONE
TZID:Europe/Warsaw
BEGIN:DAYLIGHT
TZOFFSETFROM:+0100
TZOFFSETTO:+0200
TZNAME:CEST
DTSTART:20250330T010000
END:DAYLIGHT
BEGIN:STANDARD
TZOFFSETFROM:+0200
TZOFFSETTO:+0100
TZNAME:CET
DTSTART:20251026T010000
END:STANDARD
TZID:Europe/Helsinki
BEGIN:DAYLIGHT
TZOFFSETFROM:+0200
TZOFFSETTO:+0300
TZNAME:EEST
DTSTART:20250330T010000
END:DAYLIGHT
BEGIN:STANDARD
TZOFFSETFROM:+0300
TZOFFSETTO:+0200
TZNAME:EET
DTSTART:20251026T010000
END:STANDARD
END:VTIMEZONE
BEGIN:VEVENT
DTSTART;TZID=Europe/Warsaw:20250922T173000
DTEND;TZID=Europe/Warsaw:20250922T184500
DTSTAMP:20260421T111422
CREATED:20250827T081739Z
LAST-MODIFIED:20250827T081739Z
UID:10000707-1758562200-1758566700@gardenshala.pl
SUMMARY:Joga dla początkujących
DESCRIPTION:Solidna podstawa do praktyki jogi\, prawidłowego wykonywania asan oraz pracy z oddechem. \nProwadząca: Ola Wietecha-Drobik
URL:https://gardenshala.pl/yoga/joga-dla-poczatkujacych-53/
LOCATION:Garden Shala\, Czołgistów 13\, Łódź\, 94-217\, Poland
END:VEVENT
BEGIN:VEVENT
DTSTART;TZID=Europe/Helsinki:20250922T185000
DTEND;TZID=Europe/Helsinki:20250922T202000
DTSTAMP:20260421T111422
CREATED:20250827T081803Z
LAST-MODIFIED:20250827T081803Z
UID:10000708-1758567000-1758572400@gardenshala.pl
SUMMARY:Hatha Joga
DESCRIPTION:Statyczna praktyka pozycji jogi z elementami technik oddechowych i medytacji. \nProwadząca: Ola
URL:https://gardenshala.pl/yoga/hatha-joga-57/
LOCATION:Garden Shala\, Czołgistów 13\, Łódź\, 94-217\, Poland
END:VEVENT
BEGIN:VEVENT
DTSTART;TZID=Europe/Warsaw:20250922T203000
DTEND;TZID=Europe/Warsaw:20250922T214500
DTSTAMP:20260421T111422
CREATED:20250827T081833Z
LAST-MODIFIED:20250827T081833Z
UID:10000709-1758573000-1758577500@gardenshala.pl
SUMMARY:Yin Joga
DESCRIPTION:Joga podczas której pozostajemy dłużej w pozycji\, praca na powięzi i tkankach głębokich. \nDla poszukujących zatrzymania i odpuszczenia. W pozycjach pozostajemy 3-7 minut. \nProwadząca: Patrycja
URL:https://gardenshala.pl/yoga/yin-joga-4/
LOCATION:Garden Shala\, Czołgistów 13\, Łódź\, 94-217\, Poland
END:VEVENT
BEGIN:VEVENT
DTSTART;TZID=Europe/Warsaw:20250923T173000
DTEND;TZID=Europe/Warsaw:20250923T184500
DTSTAMP:20260421T111422
CREATED:20250703T175925Z
LAST-MODIFIED:20250703T175925Z
UID:10000615-1758648600-1758653100@gardenshala.pl
SUMMARY:Ashtanga Intro - kurs Ashtanga Vinyasa Jogi od podstaw
DESCRIPTION:Kurs wprowadzający do praktyki Ashtanga Vinyasa Jogi \nZ Julią Zabost \nEarly Bird: 350 zł (do 15.08) \n450 zł (po 15.08)
URL:https://gardenshala.pl/yoga/ashtanga-intro-kurs-ashtanga-vinyasa-jogi-od-podstaw-4/
LOCATION:Garden Shala\, Czołgistów 13\, Łódź\, 94-217\, Poland
END:VEVENT
BEGIN:VEVENT
DTSTART;TZID=Europe/Helsinki:20250923T185000
DTEND;TZID=Europe/Helsinki:20250923T202000
DTSTAMP:20260421T111422
CREATED:20250827T082042Z
LAST-MODIFIED:20250827T082042Z
UID:10000713-1758653400-1758658800@gardenshala.pl
SUMMARY:Ashtanga Mysore
DESCRIPTION:Mysore – praktyka własna Ashtanga Jogi pod przewodnictwem nauczyciela. \nProwadząca: Julia
URL:https://gardenshala.pl/yoga/ashtanga-mysore-61/
LOCATION:Garden Shala\, Czołgistów 13\, Łódź\, 94-217\, Poland
END:VEVENT
BEGIN:VEVENT
DTSTART;TZID=Europe/Warsaw:20250924T173000
DTEND;TZID=Europe/Warsaw:20250924T184500
DTSTAMP:20260421T111422
CREATED:20250827T082237Z
LAST-MODIFIED:20250827T082237Z
UID:10000717-1758735000-1758739500@gardenshala.pl
SUMMARY:Joga dla początkujących
DESCRIPTION:Łagodne i płynne wejście w praktykę jogi z Gosią.
URL:https://gardenshala.pl/yoga/joga-dla-poczatkujacych-56/
LOCATION:Garden Shala\, Czołgistów 13\, Łódź\, 94-217\, Poland
END:VEVENT
BEGIN:VEVENT
DTSTART;TZID=Europe/Warsaw:20250924T190000
DTEND;TZID=Europe/Warsaw:20250924T203000
DTSTAMP:20260421T111422
CREATED:20250827T082253Z
LAST-MODIFIED:20250827T082253Z
UID:10000718-1758740400-1758745800@gardenshala.pl
SUMMARY:Ashtanga Asana Lab
DESCRIPTION:Praktyka poświęcona poszczególnym asanom z I i II serii Ashtangi. \nOmówienie techniki\, wariantów i sposobów wprowadzenia ciała w pozycje. \nPodczas zajęć przewidziana jest także praca z oddechem (Pranayama) i praktyki uważności (medytacja). \nProwadząca: Julia
URL:https://gardenshala.pl/yoga/ashtanga-asana-lab-16/
LOCATION:Garden Shala\, Czołgistów 13\, Łódź\, 94-217\, Poland
END:VEVENT
BEGIN:VEVENT
DTSTART;TZID=Europe/Helsinki:20250925T173000
DTEND;TZID=Europe/Helsinki:20250925T184500
DTSTAMP:20260421T111422
CREATED:20250827T082421Z
LAST-MODIFIED:20250827T082421Z
UID:10000721-1758821400-1758825900@gardenshala.pl
SUMMARY:Hatha Joga
DESCRIPTION:Statyczna praktyka pozycji jogi z elementami technik oddechowych i medytacji. \nJoga ogólna. \nProwadząca: Weronika
URL:https://gardenshala.pl/yoga/hatha-joga-60/
LOCATION:Garden Shala\, Czołgistów 13\, Łódź\, 94-217\, Poland
END:VEVENT
BEGIN:VEVENT
DTSTART;TZID=Europe/Helsinki:20250925T190000
DTEND;TZID=Europe/Helsinki:20250925T203000
DTSTAMP:20260421T111422
CREATED:20250827T082444Z
LAST-MODIFIED:20250827T082444Z
UID:10000722-1758826800-1758832200@gardenshala.pl
SUMMARY:Ashtanga dla początkujących
DESCRIPTION:Wprowadzenie do I serii Ashtanga Jogi \nProwadząca: Mariana
URL:https://gardenshala.pl/yoga/ashtanga-dla-poczatkujacych-59/
LOCATION:Garden Shala\, Czołgistów 13\, Łódź\, 94-217\, Poland
END:VEVENT
BEGIN:VEVENT
DTSTART;TZID=Europe/Helsinki:20250927T090000
DTEND;TZID=Europe/Helsinki:20250927T104500
DTSTAMP:20260421T111422
CREATED:20250827T082712Z
LAST-MODIFIED:20250827T082712Z
UID:10000727-1758963600-1758969900@gardenshala.pl
SUMMARY:Ashtanga Mysore
DESCRIPTION:Mysore – praktyka własna pod przewodnictwem nauczyciela \nProwadząca: Mariana
URL:https://gardenshala.pl/yoga/ashtanga-mysore-63/
LOCATION:Garden Shala\, Czołgistów 13\, Łódź\, 94-217\, Poland
END:VEVENT
BEGIN:VEVENT
DTSTART;TZID=Europe/Warsaw:20250927T110000
DTEND;TZID=Europe/Warsaw:20250927T120000
DTSTAMP:20260421T111422
CREATED:20250827T090135Z
LAST-MODIFIED:20250827T105842Z
UID:10000735-1758970800-1758974400@gardenshala.pl
SUMMARY:Joga z bajkoterapią - Garden Shala dla dzieci
DESCRIPTION:Zapraszamy na wyjątkowe wydarzenie skierowane do najmłodszych\, czyli joga z bajkoterapią. \nZajęcia dla dzieci\, wiek 5-10 lat \nProwadząca: Patrycja Paradzińska \nWstęp: 50 zł
URL:https://gardenshala.pl/yoga/joga-z-bajkoterapia-garden-shala-dla-dzieci/
LOCATION:Garden Shala\, Czołgistów 13\, Łódź\, 94-217\, Poland
END:VEVENT
BEGIN:VEVENT
DTSTART;TZID=Europe/Helsinki:20250928T100000
DTEND;TZID=Europe/Helsinki:20250928T111500
DTSTAMP:20260421T111422
CREATED:20250827T082850Z
LAST-MODIFIED:20250909T074655Z
UID:10000730-1759053600-1759058100@gardenshala.pl
SUMMARY:Vinyasa Joga
DESCRIPTION:Energia i Pobudzenie \nPraktyka jogi mająca na celu rozbudzenie ciała i umysłu – czyli idealny sposób na rozpoczęcie niedzieli! \nProwadząca: Gosia
URL:https://gardenshala.pl/yoga/vinyasa-joga-34/
LOCATION:Garden Shala\, Czołgistów 13\, Łódź\, 94-217\, Poland
END:VEVENT
BEGIN:VEVENT
DTSTART;TZID=Europe/Warsaw:20250928T113000
DTEND;TZID=Europe/Warsaw:20250928T124500
DTSTAMP:20260421T111422
CREATED:20250827T082907Z
LAST-MODIFIED:20250827T082907Z
UID:10000731-1759059000-1759063500@gardenshala.pl
SUMMARY:Łagodna Vinyasa & Joga Nidra
DESCRIPTION:Łagodny\, płynny ruch połączony z oddechem. \nPraktyka zakończona głęboką relaksacją jogi nidry. \nProwadząca: Gosia Szczepańska
URL:https://gardenshala.pl/yoga/lagodna-vinyasa-joga-nidra-31/
LOCATION:Garden Shala\, Czołgistów 13\, Łódź\, 94-217\, Poland
END:VEVENT
END:VCALENDAR