BEGIN:VCALENDAR
VERSION:2.0
PRODID:-//GARDEN SHALA - ECPv6.7.1//NONSGML v1.0//EN
CALSCALE:GREGORIAN
METHOD:PUBLISH
X-WR-CALNAME:GARDEN SHALA
X-ORIGINAL-URL:https://gardenshala.pl
X-WR-CALDESC:Events for GARDEN SHALA
REFRESH-INTERVAL;VALUE=DURATION:PT1H
X-Robots-Tag:noindex
X-PUBLISHED-TTL:PT1H
BEGIN:VTIMEZONE
TZID:Europe/Warsaw
BEGIN:DAYLIGHT
TZOFFSETFROM:+0100
TZOFFSETTO:+0200
TZNAME:CEST
DTSTART:20250330T010000
END:DAYLIGHT
BEGIN:STANDARD
TZOFFSETFROM:+0200
TZOFFSETTO:+0100
TZNAME:CET
DTSTART:20251026T010000
END:STANDARD
TZID:Europe/Helsinki
BEGIN:DAYLIGHT
TZOFFSETFROM:+0200
TZOFFSETTO:+0300
TZNAME:EEST
DTSTART:20250330T010000
END:DAYLIGHT
BEGIN:STANDARD
TZOFFSETFROM:+0300
TZOFFSETTO:+0200
TZNAME:EET
DTSTART:20251026T010000
END:STANDARD
END:VTIMEZONE
BEGIN:VEVENT
DTSTART;TZID=Europe/Warsaw:20251020T173000
DTEND;TZID=Europe/Warsaw:20251020T184500
DTSTAMP:20260421T065939
CREATED:20250921T104707Z
LAST-MODIFIED:20250921T105114Z
UID:10000783-1760981400-1760985900@gardenshala.pl
SUMMARY:Joga dla początkujących
DESCRIPTION:Solidna podstawa do praktyki jogi\, prawidłowego wykonywania asan oraz pracy z oddechem. \nProwadząca: Weronika
URL:https://gardenshala.pl/yoga/joga-dla-poczatkujacych-64/
LOCATION:Garden Shala\, Czołgistów 13\, Łódź\, 94-217\, Poland
END:VEVENT
BEGIN:VEVENT
DTSTART;TZID=Europe/Helsinki:20251020T185000
DTEND;TZID=Europe/Helsinki:20251020T202000
DTSTAMP:20260421T065939
CREATED:20250921T104835Z
LAST-MODIFIED:20250921T104835Z
UID:10000784-1760986200-1760991600@gardenshala.pl
SUMMARY:Hatha Joga
DESCRIPTION:Statyczna praktyka pozycji jogi z elementami technik oddechowych i medytacji. \nProwadząca: Ola
URL:https://gardenshala.pl/yoga/hatha-joga-64/
LOCATION:Garden Shala\, Czołgistów 13\, Łódź\, 94-217\, Poland
END:VEVENT
BEGIN:VEVENT
DTSTART;TZID=Europe/Warsaw:20251020T203000
DTEND;TZID=Europe/Warsaw:20251020T214500
DTSTAMP:20260421T065939
CREATED:20250921T104751Z
LAST-MODIFIED:20250921T104751Z
UID:10000785-1760992200-1760996700@gardenshala.pl
SUMMARY:Yin Joga
DESCRIPTION:Joga podczas której pozostajemy dłużej w pozycji\, praca na powięzi i tkankach głębokich. \nDla poszukujących zatrzymania i odpuszczenia. W pozycjach pozostajemy 3-7 minut. \nProwadząca: Patrycja
URL:https://gardenshala.pl/yoga/yin-joga-8/
LOCATION:Garden Shala\, Czołgistów 13\, Łódź\, 94-217\, Poland
END:VEVENT
BEGIN:VEVENT
DTSTART;TZID=Europe/Warsaw:20251021T173000
DTEND;TZID=Europe/Warsaw:20251021T184500
DTSTAMP:20260421T065939
CREATED:20250703T180136Z
LAST-MODIFIED:20250703T180136Z
UID:10000619-1761067800-1761072300@gardenshala.pl
SUMMARY:Ashtanga Intro - kurs Ashtanga Vinyasa Jogi od podstaw
DESCRIPTION:Kurs wprowadzający do praktyki Ashtanga Vinyasa Jogi \nZ Julią Zabost \nEarly Bird: 350 zł (do 15.08) \n450 zł (po 15.08)
URL:https://gardenshala.pl/yoga/ashtanga-intro-kurs-ashtanga-vinyasa-jogi-od-podstaw-8/
LOCATION:Garden Shala\, Czołgistów 13\, Łódź\, 94-217\, Poland
END:VEVENT
BEGIN:VEVENT
DTSTART;TZID=Europe/Helsinki:20251021T185000
DTEND;TZID=Europe/Helsinki:20251021T202000
DTSTAMP:20260421T065939
CREATED:20250921T103654Z
LAST-MODIFIED:20250921T103654Z
UID:10000764-1761072600-1761078000@gardenshala.pl
SUMMARY:Ashtanga Mysore
DESCRIPTION:Mysore – praktyka własna Ashtanga Jogi pod przewodnictwem nauczyciela. \nProwadząca: Julia
URL:https://gardenshala.pl/yoga/ashtanga-mysore-67/
LOCATION:Garden Shala\, Czołgistów 13\, Łódź\, 94-217\, Poland
END:VEVENT
BEGIN:VEVENT
DTSTART;TZID=Europe/Warsaw:20251021T203000
DTEND;TZID=Europe/Warsaw:20251021T213000
DTSTAMP:20260421T065939
CREATED:20251007T205245Z
LAST-MODIFIED:20251007T205245Z
UID:10000813-1761078600-1761082200@gardenshala.pl
SUMMARY:Wieczorna Joga Nidra
DESCRIPTION:Joga nidra\, określana także jogą snu. \nPraktyka bezwysiłkowa\, prowadząca do głębokiej relaksacji. \nProwadząca: Małgosia
URL:https://gardenshala.pl/yoga/wieczorna-joga-nidra-2/
LOCATION:Garden Shala\, Czołgistów 13\, Łódź\, 94-217\, Poland
END:VEVENT
BEGIN:VEVENT
DTSTART;TZID=Europe/Warsaw:20251022T173000
DTEND;TZID=Europe/Warsaw:20251022T184500
DTSTAMP:20260421T065939
CREATED:20250921T103521Z
LAST-MODIFIED:20250921T103521Z
UID:10000762-1761154200-1761158700@gardenshala.pl
SUMMARY:Joga dla początkujących
DESCRIPTION:Łagodne i płynne wejście w praktykę jogi z Gosią.
URL:https://gardenshala.pl/yoga/joga-dla-poczatkujacych-61/
LOCATION:Garden Shala\, Czołgistów 13\, Łódź\, 94-217\, Poland
END:VEVENT
BEGIN:VEVENT
DTSTART;TZID=Europe/Warsaw:20251022T190000
DTEND;TZID=Europe/Warsaw:20251022T201500
DTSTAMP:20260421T065939
CREATED:20250930T140519Z
LAST-MODIFIED:20251001T120845Z
UID:10000809-1761159600-1761164100@gardenshala.pl
SUMMARY:Ashtanga Asana Lab
DESCRIPTION:Praktyka poświęcona poszczególnym asanom z I i II serii Ashtangi. \nOmówienie techniki\, wariantów i sposobów wprowadzenia ciała w pozycje. \nPodczas zajęć przewidziana jest także praca z oddechem (Pranayama) i praktyki uważności (medytacja). \nProwadząca: Julia
URL:https://gardenshala.pl/yoga/ashtanga-asana-lab-20/
LOCATION:Garden Shala\, Czołgistów 13\, Łódź\, 94-217\, Poland
END:VEVENT
BEGIN:VEVENT
DTSTART;TZID=Europe/Helsinki:20251023T173000
DTEND;TZID=Europe/Helsinki:20251023T184500
DTSTAMP:20260421T065939
CREATED:20250929T180554Z
LAST-MODIFIED:20250929T180554Z
UID:10000798-1761240600-1761245100@gardenshala.pl
SUMMARY:Hatha Joga
DESCRIPTION:Hatha Joga metodą Iyengara \nJoga ogólna. \nProwadząca: Tomek
URL:https://gardenshala.pl/yoga/hatha-joga-68/
LOCATION:Garden Shala\, Czołgistów 13\, Łódź\, 94-217\, Poland
END:VEVENT
BEGIN:VEVENT
DTSTART;TZID=Europe/Helsinki:20251023T190000
DTEND;TZID=Europe/Helsinki:20251023T203000
DTSTAMP:20260421T065939
CREATED:20250929T180609Z
LAST-MODIFIED:20250929T180609Z
UID:10000799-1761246000-1761251400@gardenshala.pl
SUMMARY:Ashtanga dla początkujących
DESCRIPTION:Wprowadzenie do I serii Ashtanga Jogi \nProwadząca: Mariana
URL:https://gardenshala.pl/yoga/ashtanga-dla-poczatkujacych-66/
LOCATION:Garden Shala\, Czołgistów 13\, Łódź\, 94-217\, Poland
END:VEVENT
BEGIN:VEVENT
DTSTART;TZID=Europe/Helsinki:20251024T185000
DTEND;TZID=Europe/Helsinki:20251024T202000
DTSTAMP:20260421T065939
CREATED:20250921T104309Z
LAST-MODIFIED:20250921T104309Z
UID:10000776-1761331800-1761337200@gardenshala.pl
SUMMARY:Ashtanga - wstęp do II serii
DESCRIPTION:Wprowadzenie do II serii Ashtanga Jogi \nProwadząca: Julia
URL:https://gardenshala.pl/yoga/ashtanga-wstep-do-ii-serii-34/
LOCATION:Garden Shala\, Czołgistów 13\, Łódź\, 94-217\, Poland
END:VEVENT
BEGIN:VEVENT
DTSTART;TZID=Europe/Helsinki:20251025T090000
DTEND;TZID=Europe/Helsinki:20251025T104500
DTSTAMP:20260421T065939
CREATED:20250921T104336Z
LAST-MODIFIED:20251001T120720Z
UID:10000777-1761382800-1761389100@gardenshala.pl
SUMMARY:Ashtanga Mysore
DESCRIPTION:Mysore – praktyka własna pod przewodnictwem nauczyciela \nProwadząca: Julia
URL:https://gardenshala.pl/yoga/ashtanga-mysore-70/
LOCATION:Garden Shala\, Czołgistów 13\, Łódź\, 94-217\, Poland
END:VEVENT
BEGIN:VEVENT
DTSTART;TZID=Europe/Helsinki:20251026T100000
DTEND;TZID=Europe/Helsinki:20251026T111500
DTSTAMP:20260421T065939
CREATED:20250921T104422Z
LAST-MODIFIED:20250921T104422Z
UID:10000778-1761472800-1761477300@gardenshala.pl
SUMMARY:Vinyasa Joga
DESCRIPTION:Energia i Pobudzenie \nPraktyka jogi mająca na celu rozbudzenie ciała i umysłu – czyli idealny sposób na rozpoczęcie niedzieli! \nProwadząca: Gosia
URL:https://gardenshala.pl/yoga/vinyasa-joga-38/
LOCATION:Garden Shala\, Czołgistów 13\, Łódź\, 94-217\, Poland
END:VEVENT
BEGIN:VEVENT
DTSTART;TZID=Europe/Warsaw:20251026T113000
DTEND;TZID=Europe/Warsaw:20251026T124500
DTSTAMP:20260421T065939
CREATED:20250921T104440Z
LAST-MODIFIED:20250921T104440Z
UID:10000779-1761478200-1761482700@gardenshala.pl
SUMMARY:Łagodna Vinyasa & Joga Nidra
DESCRIPTION:Łagodny\, płynny ruch połączony z oddechem. \nPraktyka zakończona głęboką relaksacją jogi nidry. \nProwadząca: Gosia Szczepańska
URL:https://gardenshala.pl/yoga/lagodna-vinyasa-joga-nidra-34/
LOCATION:Garden Shala\, Czołgistów 13\, Łódź\, 94-217\, Poland
END:VEVENT
END:VCALENDAR