BEGIN:VCALENDAR
VERSION:2.0
PRODID:-//GARDEN SHALA - ECPv6.7.1//NONSGML v1.0//EN
CALSCALE:GREGORIAN
METHOD:PUBLISH
X-ORIGINAL-URL:https://gardenshala.pl
X-WR-CALDESC:Events for GARDEN SHALA
REFRESH-INTERVAL;VALUE=DURATION:PT1H
X-Robots-Tag:noindex
X-PUBLISHED-TTL:PT1H
BEGIN:VTIMEZONE
TZID:Europe/Warsaw
BEGIN:DAYLIGHT
TZOFFSETFROM:+0100
TZOFFSETTO:+0200
TZNAME:CEST
DTSTART:20250330T010000
END:DAYLIGHT
BEGIN:STANDARD
TZOFFSETFROM:+0200
TZOFFSETTO:+0100
TZNAME:CET
DTSTART:20251026T010000
END:STANDARD
TZID:Europe/Helsinki
BEGIN:DAYLIGHT
TZOFFSETFROM:+0200
TZOFFSETTO:+0300
TZNAME:EEST
DTSTART:20250330T010000
END:DAYLIGHT
BEGIN:STANDARD
TZOFFSETFROM:+0300
TZOFFSETTO:+0200
TZNAME:EET
DTSTART:20251026T010000
END:STANDARD
END:VTIMEZONE
BEGIN:VEVENT
DTSTART;TZID=Europe/Warsaw:20251201T173000
DTEND;TZID=Europe/Warsaw:20251201T184500
DTSTAMP:20260421T044755
CREATED:20251030T190026Z
LAST-MODIFIED:20251030T190026Z
UID:10000879-1764610200-1764614700@gardenshala.pl
SUMMARY:Joga dla początkujących
DESCRIPTION:Solidna podstawa do praktyki jogi\, prawidłowego wykonywania asan oraz pracy z oddechem. \nProwadząca: Weronika
URL:https://gardenshala.pl/yoga/joga-dla-poczatkujacych-75/
LOCATION:Garden Shala\, Czołgistów 13\, Łódź\, 94-217\, Poland
END:VEVENT
BEGIN:VEVENT
DTSTART;TZID=Europe/Helsinki:20251201T185000
DTEND;TZID=Europe/Helsinki:20251201T202000
DTSTAMP:20260421T044755
CREATED:20251030T190121Z
LAST-MODIFIED:20251030T190121Z
UID:10000880-1764615000-1764620400@gardenshala.pl
SUMMARY:Hatha Joga
DESCRIPTION:Statyczna praktyka pozycji jogi z elementami technik oddechowych i medytacji. \nProwadząca: Ola
URL:https://gardenshala.pl/yoga/hatha-joga-80/
LOCATION:Garden Shala\, Czołgistów 13\, Łódź\, 94-217\, Poland
END:VEVENT
BEGIN:VEVENT
DTSTART;TZID=Europe/Helsinki:20251202T173000
DTEND;TZID=Europe/Helsinki:20251202T183000
DTSTAMP:20260421T044755
CREATED:20251030T190225Z
LAST-MODIFIED:20251030T190225Z
UID:10000882-1764696600-1764700200@gardenshala.pl
SUMMARY:Ashtanga dla początkujących
DESCRIPTION:Wprowadzenie do I serii Ashtanga Jogi \nProwadząca: Julia
URL:https://gardenshala.pl/yoga/ashtanga-dla-poczatkujacych-76/
LOCATION:Garden Shala\, Czołgistów 13\, Łódź\, 94-217\, Poland
END:VEVENT
BEGIN:VEVENT
DTSTART;TZID=Europe/Helsinki:20251202T184000
DTEND;TZID=Europe/Helsinki:20251202T201000
DTSTAMP:20260421T044755
CREATED:20251030T190244Z
LAST-MODIFIED:20251128T124312Z
UID:10000883-1764700800-1764706200@gardenshala.pl
SUMMARY:Ashtanga Mysore
DESCRIPTION:Mysore – praktyka własna Ashtanga Jogi pod przewodnictwem nauczyciela. \nProwadząca: Julia
URL:https://gardenshala.pl/yoga/ashtanga-mysore-80/
LOCATION:Garden Shala\, Czołgistów 13\, Łódź\, 94-217\, Poland
END:VEVENT
BEGIN:VEVENT
DTSTART;TZID=Europe/Warsaw:20251203T173000
DTEND;TZID=Europe/Warsaw:20251203T183000
DTSTAMP:20260421T044755
CREATED:20251030T190424Z
LAST-MODIFIED:20251030T190424Z
UID:10000885-1764783000-1764786600@gardenshala.pl
SUMMARY:Joga dla początkujących
DESCRIPTION:Łagodne i płynne wejście w praktykę jogi z Gosią.
URL:https://gardenshala.pl/yoga/joga-dla-poczatkujacych-76/
LOCATION:Garden Shala\, Czołgistów 13\, Łódź\, 94-217\, Poland
END:VEVENT
BEGIN:VEVENT
DTSTART;TZID=Europe/Warsaw:20251203T184500
DTEND;TZID=Europe/Warsaw:20251203T200000
DTSTAMP:20260421T044755
CREATED:20251030T191544Z
LAST-MODIFIED:20251127T180159Z
UID:10000893-1764787500-1764792000@gardenshala.pl
SUMMARY:Joga Ogólna
DESCRIPTION:Harmonijna praktyka jogi\, która wprowadzi więcej swobody i wzmocnienia do Twojego ciała. Wspiera budowanie uważności i wewnętrznej równowagi. \nProwadząca: Małgosia
URL:https://gardenshala.pl/yoga/joga-ogolna/
LOCATION:Garden Shala\, Czołgistów 13\, Łódź\, 94-217\, Poland
END:VEVENT
BEGIN:VEVENT
DTSTART;TZID=Europe/Warsaw:20251203T201500
DTEND;TZID=Europe/Warsaw:20251203T211500
DTSTAMP:20260421T044755
CREATED:20251030T190302Z
LAST-MODIFIED:20251201T165925Z
UID:10000884-1764792900-1764796500@gardenshala.pl
SUMMARY:Wieczorna Joga Nidra
DESCRIPTION:Joga nidra\, określana także jogą snu. \nPraktyka bezwysiłkowa\, prowadząca do głębokiej relaksacji. \nProwadząca: Gosia
URL:https://gardenshala.pl/yoga/wieczorna-joga-nidra-8/
LOCATION:Garden Shala\, Czołgistów 13\, Łódź\, 94-217\, Poland
END:VEVENT
BEGIN:VEVENT
DTSTART;TZID=Europe/Helsinki:20251204T173000
DTEND;TZID=Europe/Helsinki:20251204T184500
DTSTAMP:20260421T044755
CREATED:20251030T190458Z
LAST-MODIFIED:20251030T190458Z
UID:10000886-1764869400-1764873900@gardenshala.pl
SUMMARY:Hatha Joga
DESCRIPTION:Hatha Joga metodą Iyengara \nJoga ogólna. \nProwadząca: Tomek
URL:https://gardenshala.pl/yoga/hatha-joga-81/
LOCATION:Garden Shala\, Czołgistów 13\, Łódź\, 94-217\, Poland
END:VEVENT
BEGIN:VEVENT
DTSTART;TZID=Europe/Helsinki:20251204T190000
DTEND;TZID=Europe/Helsinki:20251204T203000
DTSTAMP:20260421T044755
CREATED:20251030T190520Z
LAST-MODIFIED:20251030T190520Z
UID:10000887-1764874800-1764880200@gardenshala.pl
SUMMARY:Ashtanga dla początkujących
DESCRIPTION:Wprowadzenie do I serii Ashtanga Jogi \nProwadząca: Mariana
URL:https://gardenshala.pl/yoga/ashtanga-dla-poczatkujacych-77/
LOCATION:Garden Shala\, Czołgistów 13\, Łódź\, 94-217\, Poland
END:VEVENT
BEGIN:VEVENT
DTSTART;TZID=Europe/Warsaw:20251205T173000
DTEND;TZID=Europe/Warsaw:20251205T184500
DTSTAMP:20260421T044755
CREATED:20251030T190608Z
LAST-MODIFIED:20251030T190608Z
UID:10000888-1764955800-1764960300@gardenshala.pl
SUMMARY:Movement & Prana
DESCRIPTION:Trening oddechowy połączony z ruchem\nProwadząca: Ola
URL:https://gardenshala.pl/yoga/movement-prana-38/
LOCATION:Garden Shala\, Czołgistów 13\, Łódź\, 94-217\, Poland
END:VEVENT
BEGIN:VEVENT
DTSTART;TZID=Europe/Helsinki:20251205T185000
DTEND;TZID=Europe/Helsinki:20251205T202000
DTSTAMP:20260421T044755
CREATED:20251030T190630Z
LAST-MODIFIED:20251030T190630Z
UID:10000889-1764960600-1764966000@gardenshala.pl
SUMMARY:Ashtanga - wstęp do II serii
DESCRIPTION:Wprowadzenie do II serii Ashtanga Jogi \nProwadząca: Julia
URL:https://gardenshala.pl/yoga/ashtanga-wstep-do-ii-serii-40/
LOCATION:Garden Shala\, Czołgistów 13\, Łódź\, 94-217\, Poland
END:VEVENT
BEGIN:VEVENT
DTSTART;TZID=Europe/Helsinki:20251206T090000
DTEND;TZID=Europe/Helsinki:20251206T104500
DTSTAMP:20260421T044755
CREATED:20251030T190713Z
LAST-MODIFIED:20251030T190713Z
UID:10000890-1765011600-1765017900@gardenshala.pl
SUMMARY:Ashtanga Mysore
DESCRIPTION:Mysore – praktyka własna pod przewodnictwem nauczyciela \nProwadząca: Julia
URL:https://gardenshala.pl/yoga/ashtanga-mysore-81/
LOCATION:Garden Shala\, Czołgistów 13\, Łódź\, 94-217\, Poland
END:VEVENT
BEGIN:VEVENT
DTSTART;TZID=Europe/Helsinki:20251207T100000
DTEND;TZID=Europe/Helsinki:20251207T111500
DTSTAMP:20260421T044755
CREATED:20251030T190737Z
LAST-MODIFIED:20251030T190737Z
UID:10000891-1765101600-1765106100@gardenshala.pl
SUMMARY:Vinyasa Joga
DESCRIPTION:Energia i Pobudzenie \nPraktyka jogi mająca na celu rozbudzenie ciała i umysłu – czyli idealny sposób na rozpoczęcie niedzieli! \nProwadząca: Gosia
URL:https://gardenshala.pl/yoga/vinyasa-joga-43/
LOCATION:Garden Shala\, Czołgistów 13\, Łódź\, 94-217\, Poland
END:VEVENT
BEGIN:VEVENT
DTSTART;TZID=Europe/Warsaw:20251207T113000
DTEND;TZID=Europe/Warsaw:20251207T124500
DTSTAMP:20260421T044755
CREATED:20251201T170550Z
LAST-MODIFIED:20251201T170550Z
UID:10000933-1765107000-1765111500@gardenshala.pl
SUMMARY:Łagodna Vinyasa & Joga Nidra
DESCRIPTION:Łagodny\, płynny ruch połączony z oddechem. \nPraktyka zakończona głęboką relaksacją jogi nidry. \nProwadząca: Gosia Szczepańska
URL:https://gardenshala.pl/yoga/lagodna-vinyasa-joga-nidra-40/
LOCATION:Garden Shala\, Czołgistów 13\, Łódź\, 94-217\, Poland
END:VEVENT
END:VCALENDAR