BEGIN:VCALENDAR
VERSION:2.0
PRODID:-//GARDEN SHALA - ECPv6.7.1//NONSGML v1.0//EN
CALSCALE:GREGORIAN
METHOD:PUBLISH
X-ORIGINAL-URL:https://gardenshala.pl
X-WR-CALDESC:Events for GARDEN SHALA
REFRESH-INTERVAL;VALUE=DURATION:PT1H
X-Robots-Tag:noindex
X-PUBLISHED-TTL:PT1H
BEGIN:VTIMEZONE
TZID:Europe/Warsaw
BEGIN:DAYLIGHT
TZOFFSETFROM:+0100
TZOFFSETTO:+0200
TZNAME:CEST
DTSTART:20250330T010000
END:DAYLIGHT
BEGIN:STANDARD
TZOFFSETFROM:+0200
TZOFFSETTO:+0100
TZNAME:CET
DTSTART:20251026T010000
END:STANDARD
TZID:Europe/Helsinki
BEGIN:DAYLIGHT
TZOFFSETFROM:+0200
TZOFFSETTO:+0300
TZNAME:EEST
DTSTART:20250330T010000
END:DAYLIGHT
BEGIN:STANDARD
TZOFFSETFROM:+0300
TZOFFSETTO:+0200
TZNAME:EET
DTSTART:20251026T010000
END:STANDARD
END:VTIMEZONE
BEGIN:VEVENT
DTSTART;TZID=Europe/Warsaw:20251222T173000
DTEND;TZID=Europe/Warsaw:20251222T184500
DTSTAMP:20260421T034046
CREATED:20251128T125112Z
LAST-MODIFIED:20251128T125112Z
UID:10000920-1766424600-1766429100@gardenshala.pl
SUMMARY:Joga dla początkujących
DESCRIPTION:Solidna podstawa do praktyki jogi\, prawidłowego wykonywania asan oraz pracy z oddechem. \nProwadząca: Weronika
URL:https://gardenshala.pl/yoga/joga-dla-poczatkujacych-81/
LOCATION:Garden Shala\, Czołgistów 13\, Łódź\, 94-217\, Poland
END:VEVENT
BEGIN:VEVENT
DTSTART;TZID=Europe/Helsinki:20251222T185000
DTEND;TZID=Europe/Helsinki:20251222T202000
DTSTAMP:20260421T034046
CREATED:20251128T125017Z
LAST-MODIFIED:20251128T125017Z
UID:10000922-1766429400-1766434800@gardenshala.pl
SUMMARY:Hatha Joga
DESCRIPTION:Statyczna praktyka pozycji jogi z elementami technik oddechowych i medytacji. \nProwadząca: Ola
URL:https://gardenshala.pl/yoga/hatha-joga-87/
LOCATION:Garden Shala\, Czołgistów 13\, Łódź\, 94-217\, Poland
END:VEVENT
BEGIN:VEVENT
DTSTART;TZID=Europe/Helsinki:20251223T173000
DTEND;TZID=Europe/Helsinki:20251223T183000
DTSTAMP:20260421T034046
CREATED:20251128T125220Z
LAST-MODIFIED:20251128T125220Z
UID:10000924-1766511000-1766514600@gardenshala.pl
SUMMARY:Ashtanga dla początkujących
DESCRIPTION:Wprowadzenie do I serii Ashtanga Jogi \nProwadząca: Julia
URL:https://gardenshala.pl/yoga/ashtanga-dla-poczatkujacych-82/
LOCATION:Garden Shala\, Czołgistów 13\, Łódź\, 94-217\, Poland
END:VEVENT
BEGIN:VEVENT
DTSTART;TZID=Europe/Helsinki:20251223T184000
DTEND;TZID=Europe/Helsinki:20251223T201000
DTSTAMP:20260421T034046
CREATED:20251128T125236Z
LAST-MODIFIED:20251128T125236Z
UID:10000925-1766515200-1766520600@gardenshala.pl
SUMMARY:Ashtanga Mysore
DESCRIPTION:Mysore – praktyka własna Ashtanga Jogi pod przewodnictwem nauczyciela. \nProwadząca: Julia
URL:https://gardenshala.pl/yoga/ashtanga-mysore-86/
LOCATION:Garden Shala\, Czołgistów 13\, Łódź\, 94-217\, Poland
END:VEVENT
BEGIN:VEVENT
DTSTART;TZID=Europe/Warsaw:20251224T090000
DTEND;TZID=Europe/Warsaw:20251224T103000
DTSTAMP:20260421T034046
CREATED:20251221T132612Z
LAST-MODIFIED:20251221T132612Z
UID:10000937-1766566800-1766572200@gardenshala.pl
SUMMARY:Joga Świąteczna z Gosią
DESCRIPTION:Zadbaj o siebie\, swój dobrobyt i dobre samopoczucie przed świętami\, \npoprzez praktykę jogi i medytacji. \nPoziom otwarty \nProwadząca: Gosia
URL:https://gardenshala.pl/yoga/joga-swiateczna-z-gosia/
LOCATION:Garden Shala\, Czołgistów 13\, Łódź\, 94-217\, Poland
END:VEVENT
BEGIN:VEVENT
DTSTART;TZID=Europe/Helsinki:20251226T190000
DTEND;TZID=Europe/Helsinki:20251226T201500
DTSTAMP:20260421T034046
CREATED:20251221T132753Z
LAST-MODIFIED:20251221T132753Z
UID:10000938-1766775600-1766780100@gardenshala.pl
SUMMARY:Ashtanga - wstęp do II serii
DESCRIPTION:Wprowadzenie do II serii Ashtanga Jogi \nProwadząca: Julia
URL:https://gardenshala.pl/yoga/ashtanga-wstep-do-ii-serii-43/
LOCATION:Garden Shala\, Czołgistów 13\, Łódź\, 94-217\, Poland
END:VEVENT
BEGIN:VEVENT
DTSTART;TZID=Europe/Helsinki:20251227T090000
DTEND;TZID=Europe/Helsinki:20251227T104500
DTSTAMP:20260421T034046
CREATED:20251128T125437Z
LAST-MODIFIED:20251128T125437Z
UID:10000929-1766826000-1766832300@gardenshala.pl
SUMMARY:Ashtanga Mysore
DESCRIPTION:Mysore – praktyka własna pod przewodnictwem nauczyciela \nProwadząca: Julia
URL:https://gardenshala.pl/yoga/ashtanga-mysore-88/
LOCATION:Garden Shala\, Czołgistów 13\, Łódź\, 94-217\, Poland
END:VEVENT
BEGIN:VEVENT
DTSTART;TZID=Europe/Helsinki:20251228T100000
DTEND;TZID=Europe/Helsinki:20251228T111500
DTSTAMP:20260421T034046
CREATED:20251128T125511Z
LAST-MODIFIED:20251128T125511Z
UID:10000930-1766916000-1766920500@gardenshala.pl
SUMMARY:Vinyasa Joga
DESCRIPTION:Energia i Pobudzenie \nPraktyka jogi mająca na celu rozbudzenie ciała i umysłu – czyli idealny sposób na rozpoczęcie niedzieli! \nProwadząca: Gosia
URL:https://gardenshala.pl/yoga/vinyasa-joga-46/
LOCATION:Garden Shala\, Czołgistów 13\, Łódź\, 94-217\, Poland
END:VEVENT
BEGIN:VEVENT
DTSTART;TZID=Europe/Warsaw:20251228T113000
DTEND;TZID=Europe/Warsaw:20251228T124500
DTSTAMP:20260421T034046
CREATED:20251201T170734Z
LAST-MODIFIED:20251201T170734Z
UID:10000936-1766921400-1766925900@gardenshala.pl
SUMMARY:Łagodna Vinyasa & Joga Nidra
DESCRIPTION:Łagodny\, płynny ruch połączony z oddechem. \nPraktyka zakończona głęboką relaksacją jogi nidry. \nProwadząca: Gosia Szczepańska
URL:https://gardenshala.pl/yoga/lagodna-vinyasa-joga-nidra-43/
LOCATION:Garden Shala\, Czołgistów 13\, Łódź\, 94-217\, Poland
END:VEVENT
END:VCALENDAR