BEGIN:VCALENDAR
VERSION:2.0
PRODID:-//GARDEN SHALA - ECPv6.7.1//NONSGML v1.0//EN
CALSCALE:GREGORIAN
METHOD:PUBLISH
X-WR-CALNAME:GARDEN SHALA
X-ORIGINAL-URL:https://gardenshala.pl
X-WR-CALDESC:Events for GARDEN SHALA
REFRESH-INTERVAL;VALUE=DURATION:PT1H
X-Robots-Tag:noindex
X-PUBLISHED-TTL:PT1H
BEGIN:VTIMEZONE
TZID:Europe/Warsaw
BEGIN:DAYLIGHT
TZOFFSETFROM:+0100
TZOFFSETTO:+0200
TZNAME:CEST
DTSTART:20260329T010000
END:DAYLIGHT
BEGIN:STANDARD
TZOFFSETFROM:+0200
TZOFFSETTO:+0100
TZNAME:CET
DTSTART:20261025T010000
END:STANDARD
TZID:Europe/Helsinki
BEGIN:DAYLIGHT
TZOFFSETFROM:+0200
TZOFFSETTO:+0300
TZNAME:EEST
DTSTART:20260329T010000
END:DAYLIGHT
BEGIN:STANDARD
TZOFFSETFROM:+0300
TZOFFSETTO:+0200
TZNAME:EET
DTSTART:20261025T010000
END:STANDARD
END:VTIMEZONE
BEGIN:VEVENT
DTSTART;TZID=Europe/Warsaw:20260112T173000
DTEND;TZID=Europe/Warsaw:20260112T184500
DTSTAMP:20260421T002415
CREATED:20251227T135737Z
LAST-MODIFIED:20251227T135737Z
UID:10000959-1768239000-1768243500@gardenshala.pl
SUMMARY:Joga dla początkujących
DESCRIPTION:Solidna podstawa do praktyki jogi\, prawidłowego wykonywania asan oraz pracy z oddechem. \nProwadząca: Weronika
URL:https://gardenshala.pl/yoga/joga-dla-poczatkujacych-85/
LOCATION:Garden Shala\, Czołgistów 13\, Łódź\, 94-217\, Poland
END:VEVENT
BEGIN:VEVENT
DTSTART;TZID=Europe/Helsinki:20260112T185000
DTEND;TZID=Europe/Helsinki:20260112T202000
DTSTAMP:20260421T002415
CREATED:20251227T135804Z
LAST-MODIFIED:20251227T135804Z
UID:10000960-1768243800-1768249200@gardenshala.pl
SUMMARY:Hatha Joga
DESCRIPTION:Statyczna praktyka pozycji jogi z elementami technik oddechowych i medytacji. \nProwadząca: Ola
URL:https://gardenshala.pl/yoga/hatha-joga-90/
LOCATION:Garden Shala\, Czołgistów 13\, Łódź\, 94-217\, Poland
END:VEVENT
BEGIN:VEVENT
DTSTART;TZID=Europe/Helsinki:20260113T173000
DTEND;TZID=Europe/Helsinki:20260113T183000
DTSTAMP:20260421T002415
CREATED:20251227T140019Z
LAST-MODIFIED:20251227T140019Z
UID:10000965-1768325400-1768329000@gardenshala.pl
SUMMARY:Ashtanga dla początkujących
DESCRIPTION:Wprowadzenie do I serii Ashtanga Jogi \nProwadząca: Julia
URL:https://gardenshala.pl/yoga/ashtanga-dla-poczatkujacych-86/
LOCATION:Garden Shala\, Czołgistów 13\, Łódź\, 94-217\, Poland
END:VEVENT
BEGIN:VEVENT
DTSTART;TZID=Europe/Helsinki:20260113T184000
DTEND;TZID=Europe/Helsinki:20260113T201000
DTSTAMP:20260421T002415
CREATED:20251227T140046Z
LAST-MODIFIED:20251227T140046Z
UID:10000966-1768329600-1768335000@gardenshala.pl
SUMMARY:Ashtanga Mysore
DESCRIPTION:Mysore – praktyka własna Ashtanga Jogi pod przewodnictwem nauczyciela. \nProwadząca: Julia
URL:https://gardenshala.pl/yoga/ashtanga-mysore-91/
LOCATION:Garden Shala\, Czołgistów 13\, Łódź\, 94-217\, Poland
END:VEVENT
BEGIN:VEVENT
DTSTART;TZID=Europe/Warsaw:20260113T202000
DTEND;TZID=Europe/Warsaw:20260113T213500
DTSTAMP:20260421T002415
CREATED:20260109T140221Z
LAST-MODIFIED:20260109T140221Z
UID:10001008-1768335600-1768340100@gardenshala.pl
SUMMARY:Zdrowy Kręgosłup
DESCRIPTION:Zajęcia Zdrowy Kręgosłup to połączenie jogi\, gimnastyki i świadomego ruchu\, stworzone z myślą o zdrowych plecach\, poprawie postawy i codziennym komforcie. \nProwadzący: Tomek
URL:https://gardenshala.pl/yoga/zdrowy-kregoslup/
LOCATION:Garden Shala\, Czołgistów 13\, Łódź\, 94-217\, Poland
END:VEVENT
BEGIN:VEVENT
DTSTART;TZID=Europe/Warsaw:20260114T173000
DTEND;TZID=Europe/Warsaw:20260114T183000
DTSTAMP:20260421T002415
CREATED:20251227T140358Z
LAST-MODIFIED:20251227T140358Z
UID:10000971-1768411800-1768415400@gardenshala.pl
SUMMARY:Joga dla początkujących
DESCRIPTION:Łagodne i płynne wejście w praktykę jogi z Gosią.
URL:https://gardenshala.pl/yoga/joga-dla-poczatkujacych-88/
LOCATION:Garden Shala\, Czołgistów 13\, Łódź\, 94-217\, Poland
END:VEVENT
BEGIN:VEVENT
DTSTART;TZID=Europe/Warsaw:20260114T184500
DTEND;TZID=Europe/Warsaw:20260114T200000
DTSTAMP:20260421T002415
CREATED:20251227T140511Z
LAST-MODIFIED:20251227T140511Z
UID:10000972-1768416300-1768420800@gardenshala.pl
SUMMARY:Joga Ogólna
DESCRIPTION:Harmonijna praktyka jogi\, która wprowadzi więcej swobody i wzmocnienia do Twojego ciała. Wspiera budowanie uważności i wewnętrznej równowagi. \nProwadząca: Małgosia
URL:https://gardenshala.pl/yoga/joga-ogolna-5/
LOCATION:Garden Shala\, Czołgistów 13\, Łódź\, 94-217\, Poland
END:VEVENT
BEGIN:VEVENT
DTSTART;TZID=Europe/Warsaw:20260114T201500
DTEND;TZID=Europe/Warsaw:20260114T211500
DTSTAMP:20260421T002415
CREATED:20251227T140527Z
LAST-MODIFIED:20251227T140527Z
UID:10000973-1768421700-1768425300@gardenshala.pl
SUMMARY:Wieczorna Joga Nidra
DESCRIPTION:Joga nidra\, określana także jogą snu. \nPraktyka bezwysiłkowa\, prowadząca do głębokiej relaksacji. \nProwadząca: Gosia
URL:https://gardenshala.pl/yoga/wieczorna-joga-nidra-13/
LOCATION:Garden Shala\, Czołgistów 13\, Łódź\, 94-217\, Poland
END:VEVENT
BEGIN:VEVENT
DTSTART;TZID=Europe/Helsinki:20260115T173000
DTEND;TZID=Europe/Helsinki:20260115T184500
DTSTAMP:20260421T002416
CREATED:20251227T140849Z
LAST-MODIFIED:20251227T140849Z
UID:10000980-1768498200-1768502700@gardenshala.pl
SUMMARY:Hatha Joga
DESCRIPTION:Hatha Joga metodą Iyengara \nJoga ogólna. \nProwadząca: Tomek
URL:https://gardenshala.pl/yoga/hatha-joga-93/
LOCATION:Garden Shala\, Czołgistów 13\, Łódź\, 94-217\, Poland
END:VEVENT
BEGIN:VEVENT
DTSTART;TZID=Europe/Helsinki:20260115T190000
DTEND;TZID=Europe/Helsinki:20260115T201500
DTSTAMP:20260421T002416
CREATED:20251227T140907Z
LAST-MODIFIED:20251227T140907Z
UID:10000981-1768503600-1768508100@gardenshala.pl
SUMMARY:Ashtanga dla początkujących
DESCRIPTION:Wprowadzenie do I serii Ashtanga Jogi \nProwadząca: Agnieszka
URL:https://gardenshala.pl/yoga/ashtanga-dla-poczatkujacych-89/
LOCATION:Garden Shala\, Czołgistów 13\, Łódź\, 94-217\, Poland
END:VEVENT
BEGIN:VEVENT
DTSTART;TZID=Europe/Warsaw:20260116T080000
DTEND;TZID=Europe/Warsaw:20260116T091500
DTSTAMP:20260421T002416
CREATED:20260109T140458Z
LAST-MODIFIED:20260109T140752Z
UID:10001011-1768550400-1768554900@gardenshala.pl
SUMMARY:Zdrowy Kręgosłup
DESCRIPTION:Zajęcia Zdrowy Kręgosłup to połączenie jogi\, gimnastyki i świadomego ruchu\, stworzone z myślą o zdrowych plecach\, poprawie postawy i codziennym komforcie. \nProwadzący: Tomek
URL:https://gardenshala.pl/yoga/zdrowy-kregoslup-4/
LOCATION:Garden Shala\, Czołgistów 13\, Łódź\, 94-217\, Poland
END:VEVENT
BEGIN:VEVENT
DTSTART;TZID=Europe/Helsinki:20260116T185000
DTEND;TZID=Europe/Helsinki:20260116T202000
DTSTAMP:20260421T002416
CREATED:20251227T141255Z
LAST-MODIFIED:20251227T141255Z
UID:10000989-1768589400-1768594800@gardenshala.pl
SUMMARY:Ashtanga - wstęp do II serii
DESCRIPTION:Wprowadzenie do II serii Ashtanga Jogi \nProwadząca: Julia
URL:https://gardenshala.pl/yoga/ashtanga-wstep-do-ii-serii-47/
LOCATION:Garden Shala\, Czołgistów 13\, Łódź\, 94-217\, Poland
END:VEVENT
BEGIN:VEVENT
DTSTART;TZID=Europe/Helsinki:20260117T090000
DTEND;TZID=Europe/Helsinki:20260117T104500
DTSTAMP:20260421T002416
CREATED:20251227T141549Z
LAST-MODIFIED:20251227T141549Z
UID:10000995-1768640400-1768646700@gardenshala.pl
SUMMARY:Ashtanga Mysore
DESCRIPTION:Mysore – praktyka własna pod przewodnictwem nauczyciela \nProwadząca: Julia
URL:https://gardenshala.pl/yoga/ashtanga-mysore-95/
LOCATION:Garden Shala\, Czołgistów 13\, Łódź\, 94-217\, Poland
END:VEVENT
BEGIN:VEVENT
DTSTART;TZID=Europe/Helsinki:20260118T100000
DTEND;TZID=Europe/Helsinki:20260118T111500
DTSTAMP:20260421T002416
CREATED:20251227T141811Z
LAST-MODIFIED:20251227T141811Z
UID:10001000-1768730400-1768734900@gardenshala.pl
SUMMARY:Vinyasa Joga
DESCRIPTION:Energia i Pobudzenie \nPraktyka jogi mająca na celu rozbudzenie ciała i umysłu – czyli idealny sposób na rozpoczęcie niedzieli! \nProwadząca: Gosia
URL:https://gardenshala.pl/yoga/vinyasa-joga-50/
LOCATION:Garden Shala\, Czołgistów 13\, Łódź\, 94-217\, Poland
END:VEVENT
BEGIN:VEVENT
DTSTART;TZID=Europe/Warsaw:20260118T113000
DTEND;TZID=Europe/Warsaw:20260118T124500
DTSTAMP:20260421T002416
CREATED:20251227T141829Z
LAST-MODIFIED:20251227T141829Z
UID:10001001-1768735800-1768740300@gardenshala.pl
SUMMARY:Łagodna Vinyasa & Joga Nidra
DESCRIPTION:Łagodny\, płynny ruch połączony z oddechem. \nPraktyka zakończona głęboką relaksacją jogi nidry. \nProwadząca: Gosia Szczepańska
URL:https://gardenshala.pl/yoga/lagodna-vinyasa-joga-nidra-47/
LOCATION:Garden Shala\, Czołgistów 13\, Łódź\, 94-217\, Poland
END:VEVENT
END:VCALENDAR