BEGIN:VCALENDAR
VERSION:2.0
PRODID:-//GARDEN SHALA - ECPv6.7.1//NONSGML v1.0//EN
CALSCALE:GREGORIAN
METHOD:PUBLISH
X-WR-CALNAME:GARDEN SHALA
X-ORIGINAL-URL:https://gardenshala.pl
X-WR-CALDESC:Events for GARDEN SHALA
REFRESH-INTERVAL;VALUE=DURATION:PT1H
X-Robots-Tag:noindex
X-PUBLISHED-TTL:PT1H
BEGIN:VTIMEZONE
TZID:Europe/Warsaw
BEGIN:DAYLIGHT
TZOFFSETFROM:+0100
TZOFFSETTO:+0200
TZNAME:CEST
DTSTART:20260329T010000
END:DAYLIGHT
BEGIN:STANDARD
TZOFFSETFROM:+0200
TZOFFSETTO:+0100
TZNAME:CET
DTSTART:20261025T010000
END:STANDARD
TZID:Europe/Helsinki
BEGIN:DAYLIGHT
TZOFFSETFROM:+0200
TZOFFSETTO:+0300
TZNAME:EEST
DTSTART:20260329T010000
END:DAYLIGHT
BEGIN:STANDARD
TZOFFSETFROM:+0300
TZOFFSETTO:+0200
TZNAME:EET
DTSTART:20261025T010000
END:STANDARD
END:VTIMEZONE
BEGIN:VEVENT
DTSTART;TZID=Europe/Warsaw:20260209T173000
DTEND;TZID=Europe/Warsaw:20260209T184500
DTSTAMP:20260421T032831
CREATED:20260130T153152Z
LAST-MODIFIED:20260130T153152Z
UID:10001028-1770658200-1770662700@gardenshala.pl
SUMMARY:Joga dla początkujących
DESCRIPTION:Solidna podstawa do praktyki jogi\, prawidłowego wykonywania asan oraz pracy z oddechem. \nProwadząca: Weronika
URL:https://gardenshala.pl/yoga/joga-dla-poczatkujacych-93/
LOCATION:Garden Shala\, Czołgistów 13\, Łódź\, 94-217\, Poland
END:VEVENT
BEGIN:VEVENT
DTSTART;TZID=Europe/Helsinki:20260209T185000
DTEND;TZID=Europe/Helsinki:20260209T202000
DTSTAMP:20260421T032831
CREATED:20260130T153216Z
LAST-MODIFIED:20260130T153216Z
UID:10001029-1770663000-1770668400@gardenshala.pl
SUMMARY:Hatha Joga
DESCRIPTION:Statyczna praktyka pozycji jogi z elementami technik oddechowych i medytacji. \nProwadząca: Ola
URL:https://gardenshala.pl/yoga/hatha-joga-98/
LOCATION:Garden Shala\, Czołgistów 13\, Łódź\, 94-217\, Poland
END:VEVENT
BEGIN:VEVENT
DTSTART;TZID=Europe/Helsinki:20260210T173000
DTEND;TZID=Europe/Helsinki:20260210T183000
DTSTAMP:20260421T032831
CREATED:20260130T153258Z
LAST-MODIFIED:20260130T153258Z
UID:10001030-1770744600-1770748200@gardenshala.pl
SUMMARY:Ashtanga dla początkujących
DESCRIPTION:Wprowadzenie do I serii Ashtanga Jogi \nProwadząca: Julia
URL:https://gardenshala.pl/yoga/ashtanga-dla-poczatkujacych-94/
LOCATION:Garden Shala\, Czołgistów 13\, Łódź\, 94-217\, Poland
END:VEVENT
BEGIN:VEVENT
DTSTART;TZID=Europe/Helsinki:20260210T184000
DTEND;TZID=Europe/Helsinki:20260210T201000
DTSTAMP:20260421T032831
CREATED:20260130T153323Z
LAST-MODIFIED:20260130T153323Z
UID:10001031-1770748800-1770754200@gardenshala.pl
SUMMARY:Ashtanga Mysore
DESCRIPTION:Mysore – praktyka własna Ashtanga Jogi pod przewodnictwem nauczyciela. \nProwadząca: Julia
URL:https://gardenshala.pl/yoga/ashtanga-mysore-101/
LOCATION:Garden Shala\, Czołgistów 13\, Łódź\, 94-217\, Poland
END:VEVENT
BEGIN:VEVENT
DTSTART;TZID=Europe/Warsaw:20260210T202000
DTEND;TZID=Europe/Warsaw:20260210T213500
DTSTAMP:20260421T032831
CREATED:20260130T153347Z
LAST-MODIFIED:20260130T153347Z
UID:10001032-1770754800-1770759300@gardenshala.pl
SUMMARY:Zdrowy Kręgosłup
DESCRIPTION:Zajęcia Zdrowy Kręgosłup to połączenie jogi\, gimnastyki i świadomego ruchu\, stworzone z myślą o zdrowych plecach\, poprawie postawy i codziennym komforcie. \nProwadzący: Tomek
URL:https://gardenshala.pl/yoga/zdrowy-kregoslup-8/
LOCATION:Garden Shala\, Czołgistów 13\, Łódź\, 94-217\, Poland
END:VEVENT
BEGIN:VEVENT
DTSTART;TZID=Europe/Warsaw:20260211T173000
DTEND;TZID=Europe/Warsaw:20260211T183000
DTSTAMP:20260421T032831
CREATED:20260130T153422Z
LAST-MODIFIED:20260130T153422Z
UID:10001033-1770831000-1770834600@gardenshala.pl
SUMMARY:Joga dla początkujących
DESCRIPTION:Łagodne i płynne wejście w praktykę jogi z Gosią.
URL:https://gardenshala.pl/yoga/joga-dla-poczatkujacych-94/
LOCATION:Garden Shala\, Czołgistów 13\, Łódź\, 94-217\, Poland
END:VEVENT
BEGIN:VEVENT
DTSTART;TZID=Europe/Warsaw:20260211T184500
DTEND;TZID=Europe/Warsaw:20260211T200000
DTSTAMP:20260421T032831
CREATED:20260130T153438Z
LAST-MODIFIED:20260130T153438Z
UID:10001034-1770835500-1770840000@gardenshala.pl
SUMMARY:Joga Ogólna
DESCRIPTION:Harmonijna praktyka jogi\, która wprowadzi więcej swobody i wzmocnienia do Twojego ciała. Wspiera budowanie uważności i wewnętrznej równowagi. \nProwadząca: Małgosia
URL:https://gardenshala.pl/yoga/joga-ogolna-9/
LOCATION:Garden Shala\, Czołgistów 13\, Łódź\, 94-217\, Poland
END:VEVENT
BEGIN:VEVENT
DTSTART;TZID=Europe/Warsaw:20260211T201500
DTEND;TZID=Europe/Warsaw:20260211T211500
DTSTAMP:20260421T032831
CREATED:20260130T153455Z
LAST-MODIFIED:20260130T153455Z
UID:10001035-1770840900-1770844500@gardenshala.pl
SUMMARY:Wieczorna Joga Nidra
DESCRIPTION:Joga nidra\, określana także jogą snu. \nPraktyka bezwysiłkowa\, prowadząca do głębokiej relaksacji. \nProwadząca: Gosia
URL:https://gardenshala.pl/yoga/wieczorna-joga-nidra-17/
LOCATION:Garden Shala\, Czołgistów 13\, Łódź\, 94-217\, Poland
END:VEVENT
BEGIN:VEVENT
DTSTART;TZID=Europe/Helsinki:20260212T173000
DTEND;TZID=Europe/Helsinki:20260212T184500
DTSTAMP:20260421T032831
CREATED:20260130T153521Z
LAST-MODIFIED:20260130T153521Z
UID:10001036-1770917400-1770921900@gardenshala.pl
SUMMARY:Hatha Joga
DESCRIPTION:Hatha Joga metodą Iyengara \nJoga ogólna. \nProwadząca: Tomek
URL:https://gardenshala.pl/yoga/hatha-joga-99/
LOCATION:Garden Shala\, Czołgistów 13\, Łódź\, 94-217\, Poland
END:VEVENT
BEGIN:VEVENT
DTSTART;TZID=Europe/Helsinki:20260212T190000
DTEND;TZID=Europe/Helsinki:20260212T201500
DTSTAMP:20260421T032831
CREATED:20260130T153539Z
LAST-MODIFIED:20260130T153539Z
UID:10001037-1770922800-1770927300@gardenshala.pl
SUMMARY:Ashtanga dla początkujących
DESCRIPTION:Wprowadzenie do I serii Ashtanga Jogi \nProwadząca: Magda
URL:https://gardenshala.pl/yoga/ashtanga-dla-poczatkujacych-95/
LOCATION:Garden Shala\, Czołgistów 13\, Łódź\, 94-217\, Poland
END:VEVENT
BEGIN:VEVENT
DTSTART;TZID=Europe/Helsinki:20260213T185000
DTEND;TZID=Europe/Helsinki:20260213T202000
DTSTAMP:20260421T032831
CREATED:20260130T153616Z
LAST-MODIFIED:20260130T153616Z
UID:10001038-1771008600-1771014000@gardenshala.pl
SUMMARY:Ashtanga - wstęp do II serii
DESCRIPTION:Wprowadzenie do II serii Ashtanga Jogi \nProwadząca: Julia
URL:https://gardenshala.pl/yoga/ashtanga-wstep-do-ii-serii-51/
LOCATION:Garden Shala\, Czołgistów 13\, Łódź\, 94-217\, Poland
END:VEVENT
BEGIN:VEVENT
DTSTART;TZID=Europe/Helsinki:20260214T090000
DTEND;TZID=Europe/Helsinki:20260214T104500
DTSTAMP:20260421T032831
CREATED:20260130T153630Z
LAST-MODIFIED:20260130T153630Z
UID:10001039-1771059600-1771065900@gardenshala.pl
SUMMARY:Ashtanga Mysore
DESCRIPTION:Mysore – praktyka własna pod przewodnictwem nauczyciela \nProwadząca: Julia
URL:https://gardenshala.pl/yoga/ashtanga-mysore-102/
LOCATION:Garden Shala\, Czołgistów 13\, Łódź\, 94-217\, Poland
END:VEVENT
BEGIN:VEVENT
DTSTART;TZID=Europe/Helsinki:20260215T100000
DTEND;TZID=Europe/Helsinki:20260215T111500
DTSTAMP:20260421T032831
CREATED:20260130T153658Z
LAST-MODIFIED:20260130T153658Z
UID:10001040-1771149600-1771154100@gardenshala.pl
SUMMARY:Vinyasa Joga
DESCRIPTION:Energia i Pobudzenie \nPraktyka jogi mająca na celu rozbudzenie ciała i umysłu – czyli idealny sposób na rozpoczęcie niedzieli! \nProwadząca: Julia
URL:https://gardenshala.pl/yoga/vinyasa-joga-54/
LOCATION:Garden Shala\, Czołgistów 13\, Łódź\, 94-217\, Poland
END:VEVENT
BEGIN:VEVENT
DTSTART;TZID=Europe/Warsaw:20260215T113000
DTEND;TZID=Europe/Warsaw:20260215T124500
DTSTAMP:20260421T032831
CREATED:20260130T153715Z
LAST-MODIFIED:20260130T153715Z
UID:10001041-1771155000-1771159500@gardenshala.pl
SUMMARY:Łagodna Vinyasa & Joga Nidra
DESCRIPTION:Łagodny\, płynny ruch połączony z oddechem. \nPraktyka zakończona głęboką relaksacją jogi nidry. \nProwadząca: Gosia Szczepańska
URL:https://gardenshala.pl/yoga/lagodna-vinyasa-joga-nidra-51/
LOCATION:Garden Shala\, Czołgistów 13\, Łódź\, 94-217\, Poland
END:VEVENT
END:VCALENDAR